BEGIN:VCALENDAR
VERSION:2.0
PRODID:-//Falls Area Community TV - ECPv6.15.20//NONSGML v1.0//EN
CALSCALE:GREGORIAN
METHOD:PUBLISH
X-ORIGINAL-URL:https://www.fact8.com
X-WR-CALDESC:Events for Falls Area Community TV
REFRESH-INTERVAL;VALUE=DURATION:PT1H
X-Robots-Tag:noindex
X-PUBLISHED-TTL:PT1H
BEGIN:VTIMEZONE
TZID:America/New_York
BEGIN:DAYLIGHT
TZOFFSETFROM:-0500
TZOFFSETTO:-0400
TZNAME:EDT
DTSTART:20250309T070000
END:DAYLIGHT
BEGIN:STANDARD
TZOFFSETFROM:-0400
TZOFFSETTO:-0500
TZNAME:EST
DTSTART:20251102T060000
END:STANDARD
BEGIN:DAYLIGHT
TZOFFSETFROM:-0500
TZOFFSETTO:-0400
TZNAME:EDT
DTSTART:20260308T070000
END:DAYLIGHT
BEGIN:STANDARD
TZOFFSETFROM:-0400
TZOFFSETTO:-0500
TZNAME:EST
DTSTART:20261101T060000
END:STANDARD
BEGIN:DAYLIGHT
TZOFFSETFROM:-0500
TZOFFSETTO:-0400
TZNAME:EDT
DTSTART:20270314T070000
END:DAYLIGHT
BEGIN:STANDARD
TZOFFSETFROM:-0400
TZOFFSETTO:-0500
TZNAME:EST
DTSTART:20271107T060000
END:STANDARD
END:VTIMEZONE
BEGIN:VEVENT
DTSTART;TZID=America/New_York:20260502T143000
DTEND;TZID=America/New_York:20260502T153000
DTSTAMP:20260419T194352
CREATED:20250815T124006Z
LAST-MODIFIED:20250815T124120Z
UID:10000508-1777732200-1777735800@www.fact8.com
SUMMARY:Basic Equipment Training - Bellows Falls
DESCRIPTION:[vc_row][vc_column][vc_button button_color=”accent” size=”btn-sm” radius=”btn-round” wide=”yes” border_width=”0″ button_color_type=”uncode-palette” el_class=”popmake-126308″ uncode_shortcode_id=”195384″]Let’s Do it![/vc_button][vc_column_text text_lead=”small” uncode_shortcode_id=”208224″]Look\, we get it. You’re a visionary. You’ve got big ideas\, and all you need is some sweet gear to make your masterpiece. But before we hand you thousands of dollars’ worth of equipment\, let’s take a little magical journey through the land of Basic Equipment Training — aka\, “How Not to Ruin Everything.”  this wildly exciting course\, you’ll be forced—er\, invited—to learn: \n\nWhich button turns the camera on (yes\, it matters).\nHow to open a tripod without losing a finger or your dignity.\nThat audio exists\, and you should probably care about it.\nHow to frame a shot that doesn’t make people seasick.\nThe fine art of not dropping\, drowning\, or disassembling expensive things.\nHow to use our super advanced\, totally user-friendly reservation system (spoiler: it involves a calendar).\nAnd finally\, our sacred scroll of equipment policies—because “I didn’t know” won’t save you when things go sideways.\n\nIf you want to take gear out of FACT TV\, this class is mandatory. If you enjoy chaos\, broken gear\, and angry emails\, feel free to skip it (but don’t say we didn’t warn you).[/vc_column_text][/vc_column][/vc_row]
URL:https://www.fact8.com/event/dont-break-our-stuff-101-basic-equipment-training-bellows-falls-saturdays-2/2026-05-02/
LOCATION:FACT TV | Bellows Falls\, 1 Hospital Court\, Bellows Falls\, VT\, 05101\, United States
CATEGORIES:BF Classes
ATTACH;FMTTYPE=image/jpeg:https://www.fact8.com/wp-content/uploads/2025/04/1st_sat_basic.jpeg
ORGANIZER;CN="Falls Area Community Television":MAILTO:fact810@gmail.com
GEO:43.13341;-72.44398
X-APPLE-STRUCTURED-LOCATION;VALUE=URI;X-ADDRESS=FACT TV | Bellows Falls 1 Hospital Court Bellows Falls VT 05101 United States;X-APPLE-RADIUS=500;X-TITLE=1 Hospital Court:geo:-72.44398,43.13341
END:VEVENT
BEGIN:VEVENT
DTSTART;TZID=America/New_York:20260507T183000
DTEND;TZID=America/New_York:20260507T193000
DTSTAMP:20260419T194352
CREATED:20250404T142757Z
LAST-MODIFIED:20260205T222443Z
UID:10000523-1778178600-1778182200@www.fact8.com
SUMMARY:Getting Started as a Community Producer 2 - Bellows Falls
DESCRIPTION:[vc_row][vc_column][vc_button button_color=”accent” size=”btn-sm” radius=”btn-round” wide=”yes” border_width=”0″ button_color_type=”uncode-palette” el_class=”popmake-126308″ uncode_shortcode_id=”195384″]Let’s Do it![/vc_button][vc_column_text text_lead=”small” uncode_shortcode_id=”417139″]Welcome to Falls Area Community Television—where your big ideas\, quirky concepts\, and “this might be kinda cool” thoughts can become actual shows on actual screens. This class is your official orientation to everything FACT TV has to offer—and your gateway to becoming a community producer who knows what they’re doing (or at least looks like it). \nIn this fun and informative crash course\, you’ll learn: \n\nWhat kinds of shows you can create (spoiler: almost anything… except a live bear-wrangling segment—insurance won’t cover that)\nHow to take your idea and turn it into something people actually want to watch\nThe tools\, resources\, and support you get access to as part of the FACT TV family\nThe difference between shooting in our studio\, going “live to tape\,” or producing out in the wild\nHow to plan\, schedule\, and actually finish a show without complete chaos\nWays to convince (trick) your friends to help (pizza still works)\nHow to get your show seen by the community (and possibly become a local legend)\nAnd most importantly\, how FACT TV works and how you fit into it\n\nWhether you’re aiming for small-town fame or just want to have fun and make cool stuff\, this orientation-slash-class is the first step. Come with an idea. Leave with a plan. And maybe a sticker.[/vc_column_text][/vc_column][/vc_row]
URL:https://www.fact8.com/event/getting-started-as-a-community-producer-2-bellows-falls/2026-05-07/
LOCATION:FACT TV | Bellows Falls\, 1 Hospital Court\, Bellows Falls\, VT\, 05101\, United States
CATEGORIES:BF Classes
ATTACH;FMTTYPE=image/jpeg:https://www.fact8.com/wp-content/uploads/2025/04/Communit_producer3.jpg
ORGANIZER;CN="Falls Area Community Television":MAILTO:fact810@gmail.com
GEO:43.13341;-72.44398
X-APPLE-STRUCTURED-LOCATION;VALUE=URI;X-ADDRESS=FACT TV | Bellows Falls 1 Hospital Court Bellows Falls VT 05101 United States;X-APPLE-RADIUS=500;X-TITLE=1 Hospital Court:geo:-72.44398,43.13341
END:VEVENT
BEGIN:VEVENT
DTSTART;TZID=America/New_York:20260606T143000
DTEND;TZID=America/New_York:20260606T153000
DTSTAMP:20260419T194352
CREATED:20250815T124006Z
LAST-MODIFIED:20250815T124120Z
UID:10000509-1780756200-1780759800@www.fact8.com
SUMMARY:Basic Equipment Training - Bellows Falls
DESCRIPTION:[vc_row][vc_column][vc_button button_color=”accent” size=”btn-sm” radius=”btn-round” wide=”yes” border_width=”0″ button_color_type=”uncode-palette” el_class=”popmake-126308″ uncode_shortcode_id=”195384″]Let’s Do it![/vc_button][vc_column_text text_lead=”small” uncode_shortcode_id=”208224″]Look\, we get it. You’re a visionary. You’ve got big ideas\, and all you need is some sweet gear to make your masterpiece. But before we hand you thousands of dollars’ worth of equipment\, let’s take a little magical journey through the land of Basic Equipment Training — aka\, “How Not to Ruin Everything.”  this wildly exciting course\, you’ll be forced—er\, invited—to learn: \n\nWhich button turns the camera on (yes\, it matters).\nHow to open a tripod without losing a finger or your dignity.\nThat audio exists\, and you should probably care about it.\nHow to frame a shot that doesn’t make people seasick.\nThe fine art of not dropping\, drowning\, or disassembling expensive things.\nHow to use our super advanced\, totally user-friendly reservation system (spoiler: it involves a calendar).\nAnd finally\, our sacred scroll of equipment policies—because “I didn’t know” won’t save you when things go sideways.\n\nIf you want to take gear out of FACT TV\, this class is mandatory. If you enjoy chaos\, broken gear\, and angry emails\, feel free to skip it (but don’t say we didn’t warn you).[/vc_column_text][/vc_column][/vc_row]
URL:https://www.fact8.com/event/dont-break-our-stuff-101-basic-equipment-training-bellows-falls-saturdays-2/2026-06-06/
LOCATION:FACT TV | Bellows Falls\, 1 Hospital Court\, Bellows Falls\, VT\, 05101\, United States
CATEGORIES:BF Classes
ATTACH;FMTTYPE=image/jpeg:https://www.fact8.com/wp-content/uploads/2025/04/1st_sat_basic.jpeg
ORGANIZER;CN="Falls Area Community Television":MAILTO:fact810@gmail.com
GEO:43.13341;-72.44398
X-APPLE-STRUCTURED-LOCATION;VALUE=URI;X-ADDRESS=FACT TV | Bellows Falls 1 Hospital Court Bellows Falls VT 05101 United States;X-APPLE-RADIUS=500;X-TITLE=1 Hospital Court:geo:-72.44398,43.13341
END:VEVENT
BEGIN:VEVENT
DTSTART;TZID=America/New_York:20260704T143000
DTEND;TZID=America/New_York:20260704T153000
DTSTAMP:20260419T194352
CREATED:20250815T124006Z
LAST-MODIFIED:20250815T124120Z
UID:10000510-1783175400-1783179000@www.fact8.com
SUMMARY:Basic Equipment Training - Bellows Falls
DESCRIPTION:[vc_row][vc_column][vc_button button_color=”accent” size=”btn-sm” radius=”btn-round” wide=”yes” border_width=”0″ button_color_type=”uncode-palette” el_class=”popmake-126308″ uncode_shortcode_id=”195384″]Let’s Do it![/vc_button][vc_column_text text_lead=”small” uncode_shortcode_id=”208224″]Look\, we get it. You’re a visionary. You’ve got big ideas\, and all you need is some sweet gear to make your masterpiece. But before we hand you thousands of dollars’ worth of equipment\, let’s take a little magical journey through the land of Basic Equipment Training — aka\, “How Not to Ruin Everything.”  this wildly exciting course\, you’ll be forced—er\, invited—to learn: \n\nWhich button turns the camera on (yes\, it matters).\nHow to open a tripod without losing a finger or your dignity.\nThat audio exists\, and you should probably care about it.\nHow to frame a shot that doesn’t make people seasick.\nThe fine art of not dropping\, drowning\, or disassembling expensive things.\nHow to use our super advanced\, totally user-friendly reservation system (spoiler: it involves a calendar).\nAnd finally\, our sacred scroll of equipment policies—because “I didn’t know” won’t save you when things go sideways.\n\nIf you want to take gear out of FACT TV\, this class is mandatory. If you enjoy chaos\, broken gear\, and angry emails\, feel free to skip it (but don’t say we didn’t warn you).[/vc_column_text][/vc_column][/vc_row]
URL:https://www.fact8.com/event/dont-break-our-stuff-101-basic-equipment-training-bellows-falls-saturdays-2/2026-07-04/
LOCATION:FACT TV | Bellows Falls\, 1 Hospital Court\, Bellows Falls\, VT\, 05101\, United States
CATEGORIES:BF Classes
ATTACH;FMTTYPE=image/jpeg:https://www.fact8.com/wp-content/uploads/2025/04/1st_sat_basic.jpeg
ORGANIZER;CN="Falls Area Community Television":MAILTO:fact810@gmail.com
GEO:43.13341;-72.44398
X-APPLE-STRUCTURED-LOCATION;VALUE=URI;X-ADDRESS=FACT TV | Bellows Falls 1 Hospital Court Bellows Falls VT 05101 United States;X-APPLE-RADIUS=500;X-TITLE=1 Hospital Court:geo:-72.44398,43.13341
END:VEVENT
BEGIN:VEVENT
DTSTART;TZID=America/New_York:20260801T143000
DTEND;TZID=America/New_York:20260801T153000
DTSTAMP:20260419T194352
CREATED:20250815T124006Z
LAST-MODIFIED:20250815T124120Z
UID:10000511-1785594600-1785598200@www.fact8.com
SUMMARY:Basic Equipment Training - Bellows Falls
DESCRIPTION:[vc_row][vc_column][vc_button button_color=”accent” size=”btn-sm” radius=”btn-round” wide=”yes” border_width=”0″ button_color_type=”uncode-palette” el_class=”popmake-126308″ uncode_shortcode_id=”195384″]Let’s Do it![/vc_button][vc_column_text text_lead=”small” uncode_shortcode_id=”208224″]Look\, we get it. You’re a visionary. You’ve got big ideas\, and all you need is some sweet gear to make your masterpiece. But before we hand you thousands of dollars’ worth of equipment\, let’s take a little magical journey through the land of Basic Equipment Training — aka\, “How Not to Ruin Everything.”  this wildly exciting course\, you’ll be forced—er\, invited—to learn: \n\nWhich button turns the camera on (yes\, it matters).\nHow to open a tripod without losing a finger or your dignity.\nThat audio exists\, and you should probably care about it.\nHow to frame a shot that doesn’t make people seasick.\nThe fine art of not dropping\, drowning\, or disassembling expensive things.\nHow to use our super advanced\, totally user-friendly reservation system (spoiler: it involves a calendar).\nAnd finally\, our sacred scroll of equipment policies—because “I didn’t know” won’t save you when things go sideways.\n\nIf you want to take gear out of FACT TV\, this class is mandatory. If you enjoy chaos\, broken gear\, and angry emails\, feel free to skip it (but don’t say we didn’t warn you).[/vc_column_text][/vc_column][/vc_row]
URL:https://www.fact8.com/event/dont-break-our-stuff-101-basic-equipment-training-bellows-falls-saturdays-2/2026-08-01/
LOCATION:FACT TV | Bellows Falls\, 1 Hospital Court\, Bellows Falls\, VT\, 05101\, United States
CATEGORIES:BF Classes
ATTACH;FMTTYPE=image/jpeg:https://www.fact8.com/wp-content/uploads/2025/04/1st_sat_basic.jpeg
ORGANIZER;CN="Falls Area Community Television":MAILTO:fact810@gmail.com
GEO:43.13341;-72.44398
X-APPLE-STRUCTURED-LOCATION;VALUE=URI;X-ADDRESS=FACT TV | Bellows Falls 1 Hospital Court Bellows Falls VT 05101 United States;X-APPLE-RADIUS=500;X-TITLE=1 Hospital Court:geo:-72.44398,43.13341
END:VEVENT
BEGIN:VEVENT
DTSTART;TZID=America/New_York:20260905T143000
DTEND;TZID=America/New_York:20260905T153000
DTSTAMP:20260419T194352
CREATED:20250815T124006Z
LAST-MODIFIED:20250815T124120Z
UID:10000512-1788618600-1788622200@www.fact8.com
SUMMARY:Basic Equipment Training - Bellows Falls
DESCRIPTION:[vc_row][vc_column][vc_button button_color=”accent” size=”btn-sm” radius=”btn-round” wide=”yes” border_width=”0″ button_color_type=”uncode-palette” el_class=”popmake-126308″ uncode_shortcode_id=”195384″]Let’s Do it![/vc_button][vc_column_text text_lead=”small” uncode_shortcode_id=”208224″]Look\, we get it. You’re a visionary. You’ve got big ideas\, and all you need is some sweet gear to make your masterpiece. But before we hand you thousands of dollars’ worth of equipment\, let’s take a little magical journey through the land of Basic Equipment Training — aka\, “How Not to Ruin Everything.”  this wildly exciting course\, you’ll be forced—er\, invited—to learn: \n\nWhich button turns the camera on (yes\, it matters).\nHow to open a tripod without losing a finger or your dignity.\nThat audio exists\, and you should probably care about it.\nHow to frame a shot that doesn’t make people seasick.\nThe fine art of not dropping\, drowning\, or disassembling expensive things.\nHow to use our super advanced\, totally user-friendly reservation system (spoiler: it involves a calendar).\nAnd finally\, our sacred scroll of equipment policies—because “I didn’t know” won’t save you when things go sideways.\n\nIf you want to take gear out of FACT TV\, this class is mandatory. If you enjoy chaos\, broken gear\, and angry emails\, feel free to skip it (but don’t say we didn’t warn you).[/vc_column_text][/vc_column][/vc_row]
URL:https://www.fact8.com/event/dont-break-our-stuff-101-basic-equipment-training-bellows-falls-saturdays-2/2026-09-05/
LOCATION:FACT TV | Bellows Falls\, 1 Hospital Court\, Bellows Falls\, VT\, 05101\, United States
CATEGORIES:BF Classes
ATTACH;FMTTYPE=image/jpeg:https://www.fact8.com/wp-content/uploads/2025/04/1st_sat_basic.jpeg
ORGANIZER;CN="Falls Area Community Television":MAILTO:fact810@gmail.com
GEO:43.13341;-72.44398
X-APPLE-STRUCTURED-LOCATION;VALUE=URI;X-ADDRESS=FACT TV | Bellows Falls 1 Hospital Court Bellows Falls VT 05101 United States;X-APPLE-RADIUS=500;X-TITLE=1 Hospital Court:geo:-72.44398,43.13341
END:VEVENT
BEGIN:VEVENT
DTSTART;TZID=America/New_York:20261003T143000
DTEND;TZID=America/New_York:20261003T153000
DTSTAMP:20260419T194352
CREATED:20250815T124006Z
LAST-MODIFIED:20250815T124120Z
UID:10000513-1791037800-1791041400@www.fact8.com
SUMMARY:Basic Equipment Training - Bellows Falls
DESCRIPTION:[vc_row][vc_column][vc_button button_color=”accent” size=”btn-sm” radius=”btn-round” wide=”yes” border_width=”0″ button_color_type=”uncode-palette” el_class=”popmake-126308″ uncode_shortcode_id=”195384″]Let’s Do it![/vc_button][vc_column_text text_lead=”small” uncode_shortcode_id=”208224″]Look\, we get it. You’re a visionary. You’ve got big ideas\, and all you need is some sweet gear to make your masterpiece. But before we hand you thousands of dollars’ worth of equipment\, let’s take a little magical journey through the land of Basic Equipment Training — aka\, “How Not to Ruin Everything.”  this wildly exciting course\, you’ll be forced—er\, invited—to learn: \n\nWhich button turns the camera on (yes\, it matters).\nHow to open a tripod without losing a finger or your dignity.\nThat audio exists\, and you should probably care about it.\nHow to frame a shot that doesn’t make people seasick.\nThe fine art of not dropping\, drowning\, or disassembling expensive things.\nHow to use our super advanced\, totally user-friendly reservation system (spoiler: it involves a calendar).\nAnd finally\, our sacred scroll of equipment policies—because “I didn’t know” won’t save you when things go sideways.\n\nIf you want to take gear out of FACT TV\, this class is mandatory. If you enjoy chaos\, broken gear\, and angry emails\, feel free to skip it (but don’t say we didn’t warn you).[/vc_column_text][/vc_column][/vc_row]
URL:https://www.fact8.com/event/dont-break-our-stuff-101-basic-equipment-training-bellows-falls-saturdays-2/2026-10-03/
LOCATION:FACT TV | Bellows Falls\, 1 Hospital Court\, Bellows Falls\, VT\, 05101\, United States
CATEGORIES:BF Classes
ATTACH;FMTTYPE=image/jpeg:https://www.fact8.com/wp-content/uploads/2025/04/1st_sat_basic.jpeg
ORGANIZER;CN="Falls Area Community Television":MAILTO:fact810@gmail.com
GEO:43.13341;-72.44398
X-APPLE-STRUCTURED-LOCATION;VALUE=URI;X-ADDRESS=FACT TV | Bellows Falls 1 Hospital Court Bellows Falls VT 05101 United States;X-APPLE-RADIUS=500;X-TITLE=1 Hospital Court:geo:-72.44398,43.13341
END:VEVENT
BEGIN:VEVENT
DTSTART;TZID=America/New_York:20261107T143000
DTEND;TZID=America/New_York:20261107T153000
DTSTAMP:20260419T194352
CREATED:20250815T124006Z
LAST-MODIFIED:20250815T124120Z
UID:10000514-1794061800-1794065400@www.fact8.com
SUMMARY:Basic Equipment Training - Bellows Falls
DESCRIPTION:[vc_row][vc_column][vc_button button_color=”accent” size=”btn-sm” radius=”btn-round” wide=”yes” border_width=”0″ button_color_type=”uncode-palette” el_class=”popmake-126308″ uncode_shortcode_id=”195384″]Let’s Do it![/vc_button][vc_column_text text_lead=”small” uncode_shortcode_id=”208224″]Look\, we get it. You’re a visionary. You’ve got big ideas\, and all you need is some sweet gear to make your masterpiece. But before we hand you thousands of dollars’ worth of equipment\, let’s take a little magical journey through the land of Basic Equipment Training — aka\, “How Not to Ruin Everything.”  this wildly exciting course\, you’ll be forced—er\, invited—to learn: \n\nWhich button turns the camera on (yes\, it matters).\nHow to open a tripod without losing a finger or your dignity.\nThat audio exists\, and you should probably care about it.\nHow to frame a shot that doesn’t make people seasick.\nThe fine art of not dropping\, drowning\, or disassembling expensive things.\nHow to use our super advanced\, totally user-friendly reservation system (spoiler: it involves a calendar).\nAnd finally\, our sacred scroll of equipment policies—because “I didn’t know” won’t save you when things go sideways.\n\nIf you want to take gear out of FACT TV\, this class is mandatory. If you enjoy chaos\, broken gear\, and angry emails\, feel free to skip it (but don’t say we didn’t warn you).[/vc_column_text][/vc_column][/vc_row]
URL:https://www.fact8.com/event/dont-break-our-stuff-101-basic-equipment-training-bellows-falls-saturdays-2/2026-11-07/
LOCATION:FACT TV | Bellows Falls\, 1 Hospital Court\, Bellows Falls\, VT\, 05101\, United States
CATEGORIES:BF Classes
ATTACH;FMTTYPE=image/jpeg:https://www.fact8.com/wp-content/uploads/2025/04/1st_sat_basic.jpeg
ORGANIZER;CN="Falls Area Community Television":MAILTO:fact810@gmail.com
GEO:43.13341;-72.44398
X-APPLE-STRUCTURED-LOCATION;VALUE=URI;X-ADDRESS=FACT TV | Bellows Falls 1 Hospital Court Bellows Falls VT 05101 United States;X-APPLE-RADIUS=500;X-TITLE=1 Hospital Court:geo:-72.44398,43.13341
END:VEVENT
END:VCALENDAR